BEGIN:VCALENDAR
VERSION:2.0
PRODID:-//eventon.com NONSGML v1.0//EN
BEGIN:VEVENT
UID:69eb66d3485cf
DTSTAMP:20260424T094923
DTSTART:20260306T003000Z
DTEND:20260306T025000Z
LOCATION:MIL588 La Fundación Junin 1687
SUMMARY:ALICIA MAIZARES\,  NOEMI MAIZARES Y ARTURO TORRES
DESCRIPTION: Este jueves 5 de marzo\,  te invitamos a vivir una noche única a puro sentimiento litoraleño en una nueva edición de los Jueves Culturales. A partir de las 21:30 h\,  la música se apoderará del escenario con la presentación de Alicia Maizares. La artista estará acompañada por el talento de[..]
END:VEVENT
END:VCALENDAR