BEGIN:VCALENDAR
VERSION:2.0
PRODID:-//eventon.com NONSGML v1.0//EN
BEGIN:VEVENT
UID:69e57fd2a2de3
DTSTAMP:20260419T222226
DTSTART:20260310T000000Z
DTEND:20260310T020000Z
LOCATION:Biblioteca Mariño Santa Fe 847
SUMMARY:Valor Centimental
DESCRIPTION: Cine debate  - Valor sentimental Dirigido por Joachin Trier &nbsp; &nbsp;
END:VEVENT
END:VCALENDAR