BEGIN:VCALENDAR
VERSION:2.0
PRODID:-//eventon.com NONSGML v1.0//EN
BEGIN:VEVENT
UID:69e5988c79f6f
DTSTAMP:20260420T000756
DTSTART:20260307T040000Z
DTEND:20260307T040000Z
LOCATION:Biblioteca Mariño Santa Fe 847
SUMMARY:Rotzio y las Luciérnagas
DESCRIPTION: 7 Marzo - 21hs Album Efecto Índigo Performance - Efectos Visuales - Banda en Vivo &nbsp;
END:VEVENT
END:VCALENDAR