BEGIN:VCALENDAR
VERSION:2.0
PRODID:-//eventon.com NONSGML v1.0//EN
BEGIN:VEVENT
UID:69e5ac2cb4b0b
DTSTAMP:20260420T013140
DTSTART:20260306T230000Z
DTEND:20260307T020000Z
LOCATION:Biblioteca Mariño Santa Fe 847
SUMMARY:Las Mujeres Cuentan
DESCRIPTION: Viernes 6     20hs Cuentan las Mujeres | Festival cultural 20hs Presentación del Libro: La Rebelión de las Santas Cautivas" de Natalia Schejter (EUDENE) 20:30hs: Obra de teatro: Las Cautivas y su silencio. 21hs. Inés Bendin
END:VEVENT
END:VCALENDAR