BEGIN:VCALENDAR
VERSION:2.0
PRODID:-//eventon.com NONSGML v1.0//EN
BEGIN:VEVENT
UID:69e5c2df15fb1
DTSTAMP:20260420T030831
DTSTART:20260305T233000Z
DTEND:20260306T010000Z
LOCATION:Biblioteca Mariño Santa Fe 847
SUMMARY:Ser el Rio - Licha Bernal
DESCRIPTION: Jueves 5 licha.bernal | Inauguración de muestra. Curaduria: Leo Guardianelli @clubdelsync | Encuentro de música electrónica &nbsp;
END:VEVENT
END:VCALENDAR