BEGIN:VCALENDAR
VERSION:2.0
PRODID:-//eventon.com NONSGML v1.0//EN
BEGIN:VEVENT
UID:69e5d5eaf15c7
DTSTAMP:20260420T042946
DTSTART:20260305T001900Z
DTEND:20260305T020100Z
LOCATION:Biblioteca Mariño Santa Fe 847
SUMMARY:La Historia Oficial
DESCRIPTION: MARZO en La Mariño 📅 Miércoles 4     21hs @cineclu_ctes : La Historia Oficial - Luis Puenzo (1985) | Cine Reservá tus entradas! &nbsp;
END:VEVENT
END:VCALENDAR