BEGIN:VCALENDAR
VERSION:2.0
PRODID:-//eventon.com NONSGML v1.0//EN
BEGIN:VEVENT
UID:69e5fbd3dc897
DTSTAMP:20260420T071131
DTSTART:20260308T025000Z
DTEND:20260308T070000Z
LOCATION:
SUMMARY:MAURI Y EL ARRANQUE Y LOS ROMANTICOS
DESCRIPTION: Se viene una noche a puro ritmo con el show en vivo de Mauri y El Arranke + Los Románticos. No digas que no te avisamos. ¡Nos vemos en la pista! SÁBADO 07 DE MARZO – NOCHE DE ELLAS Recibimos el Día de la Mujer con una noche a pura[..]
END:VEVENT
END:VCALENDAR