BEGIN:VCALENDAR
VERSION:2.0
PRODID:-//eventon.com NONSGML v1.0//EN
BEGIN:VEVENT
UID:69eb2a7b5e71c
DTSTAMP:20260424T053155
DTSTART:20260308T020000Z
DTEND:20260308T025500Z
LOCATION:Paseo Wynwood San Juan 431
SUMMARY:GERARDO Y LOS CHAQUES
DESCRIPTION: ¡Se viene un sábado a puro ritmo! Gerardo y Los Chaques desembarcan con todo el sentimiento para hacernos bailar de principio a fin. ¡No te quedes afuera de esta fiesta! Entrada libre y gratuita.
END:VEVENT
END:VCALENDAR