BEGIN:VCALENDAR
VERSION:2.0
PRODID:-//eventon.com NONSGML v1.0//EN
BEGIN:VEVENT
UID:69e8c72c6cb57
DTSTAMP:20260422T100340
DTSTART:20260305T110000Z
DTEND:20260319T000000Z
LOCATION:Sala Adolfo Mors Pellegrini 542
SUMMARY:MUJERES QUE INSPIRAN\,  NIÑOS QUE CREAN
DESCRIPTION: En conmemoración del Día Internacional de la Mujer\,  la Municipalidad de Corrientes presenta «Mujeres que inspiran\,  niños que crean: Un tributo a la mujer»\,  una muestra escultórica del taller de Verónica Maidana. Esta exhibición presenta obras realizadas en porcelana fría y tallados en madera\,  abordando la figura femenina como un[..]
END:VEVENT
END:VCALENDAR